BEGIN:VCALENDAR
VERSION:2.0
PRODID:-//Autism Society Mahoning Valley - ECPv6.15.20//NONSGML v1.0//EN
CALSCALE:GREGORIAN
METHOD:PUBLISH
X-WR-CALNAME:Autism Society Mahoning Valley
X-ORIGINAL-URL:https://autismmv.org
X-WR-CALDESC:Events for Autism Society Mahoning Valley
REFRESH-INTERVAL;VALUE=DURATION:PT1H
X-Robots-Tag:noindex
X-PUBLISHED-TTL:PT1H
BEGIN:VTIMEZONE
TZID:UTC
BEGIN:STANDARD
TZOFFSETFROM:+0000
TZOFFSETTO:+0000
TZNAME:UTC
DTSTART:20250101T000000
END:STANDARD
END:VTIMEZONE
BEGIN:VEVENT
DTSTART;TZID=UTC:20260424T173000
DTEND;TZID=UTC:20260424T193000
DTSTAMP:20260420T124210
CREATED:20260317T212907Z
LAST-MODIFIED:20260417T221624Z
UID:6848-1777051800-1777059000@autismmv.org
SUMMARY:April 2026 Family Outing - UAW Local 1112 Sponsored Family Dance
DESCRIPTION:🎬✨ April Family Outing – Red Carpet Night! ✨🎬 \nGet ready for a star-studded evening of fun\, laughter\, and celebration at our April Family Outing! 🌟 \n📅 Date: Friday\, April 24\, 2026⏰ Time: 5:30 – 7:30 PM\n $ $10 per Family\, cash at the door (additional Autism Society donations are greatly appreciated).📍 Location: UAW Local 1112 – 11471 Reuther Dr\, Warren\, OH 44481🎟 Sponsored by: UAW Local 1112 \nThis Hollywood-style event is all about making our families feel like VIPs! Walk the red carpet\, strike a pose\, and enjoy an evening of fun\, games\, and dancing! \n🌟 Event Highlights:📸 Red Carpet Photo Experience – Dress up (if you want!) and get your celebrity moment!🎲 Games & Dancing – Fun for all ages!🍔 Food & Drinks – Provided by UAW Local 1112 — Pizza\, chips\, cookies and drinks.🎉 Your night! – Feel like a celebrity in a welcoming\, sensory-friendly environment! \n💃🕺 Dress up if you’d like\, bring your best moves\, and get ready for an unforgettable night of fun! Tag a friend and let’s roll out the red carpet together! 💙♾️ \nCost is $10.00 per family to attend.  Register now to reserve your spot!  \nRegistration Closes on April 21st. \n\n	Notice: JavaScript is required for this content.
URL:https://autismmv.org/event/april-2026-family-outing-uaw-local-1112-sponsored-family-dance/
LOCATION:UAW Local 1112\, 11471 Reuther Drive\, Warren\, OH\, 44481\, United States
ORGANIZER;CN="Autism Society of Mahoning Valley":MAILTO:info@autismmv.org
END:VEVENT
BEGIN:VEVENT
DTSTART;TZID=UTC:20260429T173000
DTEND;TZID=UTC:20260429T193000
DTSTAMP:20260420T124210
CREATED:20260317T215247Z
LAST-MODIFIED:20260319T115109Z
UID:6845-1777483800-1777491000@autismmv.org
SUMMARY:April Family Outing 2026 - Autism Acceptance Night at OHWOW!
DESCRIPTION:Celebrate Autism Acceptance Month!Oh WOW! Children’s Museum + Autism Society of Mahoning Valley \nIn Partnership with Platt! and WesBanco please mark your calendars for a\nFamily Fun Night Finale- Please join us for a family fun night out as we wrap up Autism Acceptance Month in a playful\, interactive\, and inclusive environment created especially for our autism families. \nEvent Details: \n– Date: Wednesday\, April 29th\n– Time: 5:30 PM – 7:30 PM\n– Location: OH WOW! Children’s Museum\n15 Central Square\nYoungstown\, OH 44503 \nThis is a private\, free event. A light snack and refreshments will be served in the party room. \nThis is a wonderful night to explore\, play\, and connect! \nRSVP:\nPlease RSVP by Wednesday\, April 22nd and let us know how many family members will be attending. \n\n	Notice: JavaScript is required for this content.
URL:https://autismmv.org/event/april-family-outing-2026-autism-acceptance-night-at-ohwow/
LOCATION:OH WOW! the Roger & Gloria Jones Children’s Center for Science & Technology Children’s Museum\, 15 Central Square\, Youngstown\, OH\, 44503\, United States
ORGANIZER;CN="Autism Society of Mahoning Valley":MAILTO:info@autismmv.org
END:VEVENT
BEGIN:VEVENT
DTSTART;TZID=UTC:20260430T170000
DTEND;TZID=UTC:20260430T200000
DTSTAMP:20260420T124210
CREATED:20260325T155219Z
LAST-MODIFIED:20260325T213152Z
UID:6955-1777568400-1777579200@autismmv.org
SUMMARY:McDonald's Fundraiser -- Austintown
DESCRIPTION:
URL:https://autismmv.org/event/mcdonalds-fundraiser-austintown/
LOCATION:McDonald’s Austintown\, 5526 Mahoning Avenue\, Austintown\, OH\, 44515\, United States
ORGANIZER;CN="Autism Society of Mahoning Valley":MAILTO:info@autismmv.org
END:VEVENT
BEGIN:VEVENT
DTSTART;TZID=UTC:20260430T170000
DTEND;TZID=UTC:20260430T200000
DTSTAMP:20260420T124210
CREATED:20260325T160223Z
LAST-MODIFIED:20260325T213122Z
UID:6960-1777568400-1777579200@autismmv.org
SUMMARY:McDonald's Fundraiser -- Cortland
DESCRIPTION:
URL:https://autismmv.org/event/mcdonalds-fundraiser-cortland/
LOCATION:McDonald’s Cortland\, 3629 OH-5\, Cortland\, OH\, 44410\, United States
ORGANIZER;CN="Autism Society of Mahoning Valley":MAILTO:info@autismmv.org
END:VEVENT
END:VCALENDAR